BEGIN:VCALENDAR
VERSION:2.0
PRODID:-//ConVerve GmbH//B2BMatch//EN
METHOD:PUBLISH
BEGIN:VEVENT
DTSTART:20251112T110000Z
DTEND:20251115T030000Z
SUMMARY:NETWORK2025
LOCATION:Fort Lauderdale Marriott Harbor Beach Resort
DESCRIPTION:
UID:0000001
DTSTAMP:20180215T145139Z
END:VEVENT
END:VCALENDAR
